BEGIN:VCALENDAR
VERSION:2.0
PRODID:icalendar-ruby
CALSCALE:GREGORIAN
METHOD:PUBLISH
BEGIN:VEVENT
DTSTAMP:20260423T223916Z
UID:6-1589140@enterprisechristianchurch.org
DTSTART:20261104T030000Z
DTEND:20261104T040000Z
CLASS:PUBLIC
CREATED:20260423T134714
DESCRIPTION:A Sacred Hour\, A Shared Power:\nYou're Invited to Our Weekly P
 rayer Meetup!\n"The Lord is near to all who call on him\, to all who call 
 on him in truth." - Psalms 145:18\nMay We Pray for you? \n\n\n\n
LAST-MODIFIED:20260423T134714
LOCATION:Church Foyer
SUMMARY:Prayer Meeting
URL;VALUE=URI:https://enterprisechristianchurch.org/events/prayer-meeting/2
 026-11-03
ATTACH;FILENAME=pray-2558490_1280.jpg;FMTTYPE=image/jpeg:https://dq5pwpg1q8
 ru0.cloudfront.net/2024/01/08/13/19/31/2a112d0b-b6ba-451d-9c91-99ea6daa616
 6/pray-2558490_1280.jpg
END:VEVENT
END:VCALENDAR
